BEGIN:VCALENDAR
VERSION:2.0
PRODID:-//Vriendenkringen Amsterdam - ECPv6.15.20//NONSGML v1.0//EN
CALSCALE:GREGORIAN
METHOD:PUBLISH
X-WR-CALNAME:Vriendenkringen Amsterdam
X-ORIGINAL-URL:https://www.vriendenkringenamsterdam.nl
X-WR-CALDESC:Evenementen voor Vriendenkringen Amsterdam
REFRESH-INTERVAL;VALUE=DURATION:PT1H
X-Robots-Tag:noindex
X-PUBLISHED-TTL:PT1H
BEGIN:VTIMEZONE
TZID:Europe/Amsterdam
BEGIN:DAYLIGHT
TZOFFSETFROM:+0100
TZOFFSETTO:+0200
TZNAME:CEST
DTSTART:20200329T010000
END:DAYLIGHT
BEGIN:STANDARD
TZOFFSETFROM:+0200
TZOFFSETTO:+0100
TZNAME:CET
DTSTART:20201025T010000
END:STANDARD
BEGIN:DAYLIGHT
TZOFFSETFROM:+0100
TZOFFSETTO:+0200
TZNAME:CEST
DTSTART:20210328T010000
END:DAYLIGHT
BEGIN:STANDARD
TZOFFSETFROM:+0200
TZOFFSETTO:+0100
TZNAME:CET
DTSTART:20211031T010000
END:STANDARD
BEGIN:DAYLIGHT
TZOFFSETFROM:+0100
TZOFFSETTO:+0200
TZNAME:CEST
DTSTART:20220327T010000
END:DAYLIGHT
BEGIN:STANDARD
TZOFFSETFROM:+0200
TZOFFSETTO:+0100
TZNAME:CET
DTSTART:20221030T010000
END:STANDARD
END:VTIMEZONE
BEGIN:VEVENT
DTSTART;TZID=Europe/Amsterdam:20210217T130000
DTEND;TZID=Europe/Amsterdam:20210217T163000
DTSTAMP:20260424T211831
CREATED:20210210T094217Z
LAST-MODIFIED:20210210T094654Z
UID:1329-1613566800-1613579400@www.vriendenkringenamsterdam.nl
SUMMARY:Ontmoetingsbijeenkomst VriendenKringen
DESCRIPTION:In verband met de huidige coronamaatregelen is er weer besloten om de bijeenkomst op te delen in verschillende rondes. De hoeveelheid rondes is afhankelijk van beschikbaarheid van de ruimte & aanmeldingen. \nHierom is aanmelden voor de bijeenkomst ook verplicht!\nEsmee: 06-30966572\nDe rondes die nu staan zijn: 13:00 tot 14:30 & 15:00 tot 16:30. \nKom je ook gezellig?
URL:https://www.vriendenkringenamsterdam.nl/activiteit/ontmoetingsbijeenkomst-vriendenkringen/
LOCATION:Buurtkamer Gulden Winckel\, Krelis Louwenstraat 2\, Amsterdam\, Noord-Holland\, 1055KA
CATEGORIES:Volwassenen
END:VEVENT
END:VCALENDAR