BEGIN:VCALENDAR
VERSION:2.0
PRODID:-//Vriendenkringen Amsterdam - ECPv6.15.20//NONSGML v1.0//EN
CALSCALE:GREGORIAN
METHOD:PUBLISH
X-WR-CALNAME:Vriendenkringen Amsterdam
X-ORIGINAL-URL:https://www.vriendenkringenamsterdam.nl
X-WR-CALDESC:Evenementen voor Vriendenkringen Amsterdam
REFRESH-INTERVAL;VALUE=DURATION:PT1H
X-Robots-Tag:noindex
X-PUBLISHED-TTL:PT1H
BEGIN:VTIMEZONE
TZID:Europe/Amsterdam
BEGIN:DAYLIGHT
TZOFFSETFROM:+0100
TZOFFSETTO:+0200
TZNAME:CEST
DTSTART:20200329T010000
END:DAYLIGHT
BEGIN:STANDARD
TZOFFSETFROM:+0200
TZOFFSETTO:+0100
TZNAME:CET
DTSTART:20201025T010000
END:STANDARD
BEGIN:DAYLIGHT
TZOFFSETFROM:+0100
TZOFFSETTO:+0200
TZNAME:CEST
DTSTART:20210328T010000
END:DAYLIGHT
BEGIN:STANDARD
TZOFFSETFROM:+0200
TZOFFSETTO:+0100
TZNAME:CET
DTSTART:20211031T010000
END:STANDARD
BEGIN:DAYLIGHT
TZOFFSETFROM:+0100
TZOFFSETTO:+0200
TZNAME:CEST
DTSTART:20220327T010000
END:DAYLIGHT
BEGIN:STANDARD
TZOFFSETFROM:+0200
TZOFFSETTO:+0100
TZNAME:CET
DTSTART:20221030T010000
END:STANDARD
END:VTIMEZONE
BEGIN:VEVENT
DTSTART;TZID=Europe/Amsterdam:20210414T193000
DTEND;TZID=Europe/Amsterdam:20210414T203000
DTSTAMP:20260424T182503
CREATED:20210407T112028Z
LAST-MODIFIED:20210407T112028Z
UID:1371-1618428600-1618432200@www.vriendenkringenamsterdam.nl
SUMMARY:Online volwassenenbijeenkomst
DESCRIPTION:Bij deze online bijeenkomst gaan we lekker kletsen en leuke kennismakingsspelletjes spelen. \n\n\nAanmelden is verplicht! \n\n\nAanmelden kan bij Esmee de Wit: 06-30966572 of via edwit@dock.nl
URL:https://www.vriendenkringenamsterdam.nl/activiteit/online-volwassenenbijeenkomst/
LOCATION:Online
CATEGORIES:Volwassenen
END:VEVENT
BEGIN:VEVENT
DTSTART;TZID=Europe/Amsterdam:20210418T123000
DTEND;TZID=Europe/Amsterdam:20210418T154500
DTSTAMP:20260424T182503
CREATED:20210407T110518Z
LAST-MODIFIED:20210407T111216Z
UID:1368-1618749000-1618760700@www.vriendenkringenamsterdam.nl
SUMMARY:Jeugdbijeenkomst REEL
DESCRIPTION:Kom jij ook gezellig langs om nieuwe mensen te ontmoeten?  \n\n\nEr zijn twee groepen\, voor beide groepen duurt de bijeenkomst 1\,5 uur.  \n\n\nNa het aanmelden hoor je hoe laat je bent ingedeeld.  \n\n\nAanmelden is verplicht en VOL = VOL!  \n\n\nAanmelden kan bij Esmee de Wit: 06-30966572 of via edwit@dock.nl 
URL:https://www.vriendenkringenamsterdam.nl/activiteit/jeugdbijeenkomst-reel/
LOCATION:Jongerencentrum Reel\, Tussen de Bogen 16\, Amsterdam - Centrum
CATEGORIES:Jongeren,Volwassenen
END:VEVENT
BEGIN:VEVENT
DTSTART;TZID=Europe/Amsterdam:20210425T100000
DTEND;TZID=Europe/Amsterdam:20210425T123000
DTSTAMP:20260424T182503
CREATED:20210407T112424Z
LAST-MODIFIED:20210407T112424Z
UID:1373-1619344800-1619353800@www.vriendenkringenamsterdam.nl
SUMMARY:Volwassenenbijeenkomst Cremer
DESCRIPTION:Kom je ook gezellig nieuwe mensen ontmoeten? \nEr zijn twee groepen\, voor beide groepen duurt de bijeenkomst 1 uur. \nNadat jij je hebt aangemeld hoor je hoe laat je bent ingedeeld. \n\n\nAanmelden is verplicht en VOL = VOL! \n\n\nAanmelden kan bij Esmee de Wit: 06-30966572 of via edwit@dock.nl \n\n\n  \n\n\nVoor een routebeschrijving naar deze locatie kunt u ook mailen naar de bovenstaande gegevens.
URL:https://www.vriendenkringenamsterdam.nl/activiteit/volwassenenbijeenkomst-cremer/
LOCATION:Cremer\, J. J. Cremerplein 27a\, Amsterdam\, Noord-Holland\, 1054TH\, Nederland
CATEGORIES:Volwassenen
END:VEVENT
END:VCALENDAR