BEGIN:VCALENDAR
VERSION:2.0
PRODID:-//Vriendenkringen Amsterdam - ECPv6.15.20//NONSGML v1.0//EN
CALSCALE:GREGORIAN
METHOD:PUBLISH
X-WR-CALNAME:Vriendenkringen Amsterdam
X-ORIGINAL-URL:https://www.vriendenkringenamsterdam.nl
X-WR-CALDESC:Evenementen voor Vriendenkringen Amsterdam
REFRESH-INTERVAL;VALUE=DURATION:PT1H
X-Robots-Tag:noindex
X-PUBLISHED-TTL:PT1H
BEGIN:VTIMEZONE
TZID:Europe/Amsterdam
BEGIN:DAYLIGHT
TZOFFSETFROM:+0100
TZOFFSETTO:+0200
TZNAME:CEST
DTSTART:20210328T010000
END:DAYLIGHT
BEGIN:STANDARD
TZOFFSETFROM:+0200
TZOFFSETTO:+0100
TZNAME:CET
DTSTART:20211031T010000
END:STANDARD
BEGIN:DAYLIGHT
TZOFFSETFROM:+0100
TZOFFSETTO:+0200
TZNAME:CEST
DTSTART:20220327T010000
END:DAYLIGHT
BEGIN:STANDARD
TZOFFSETFROM:+0200
TZOFFSETTO:+0100
TZNAME:CET
DTSTART:20221030T010000
END:STANDARD
BEGIN:DAYLIGHT
TZOFFSETFROM:+0100
TZOFFSETTO:+0200
TZNAME:CEST
DTSTART:20230326T010000
END:DAYLIGHT
BEGIN:STANDARD
TZOFFSETFROM:+0200
TZOFFSETTO:+0100
TZNAME:CET
DTSTART:20231029T010000
END:STANDARD
END:VTIMEZONE
BEGIN:VEVENT
DTSTART;TZID=Europe/Amsterdam:20220327T110000
DTEND;TZID=Europe/Amsterdam:20220327T150000
DTSTAMP:20260424T011150
CREATED:20220228T103631Z
LAST-MODIFIED:20220228T103631Z
UID:1539-1648378800-1648393200@www.vriendenkringenamsterdam.nl
SUMMARY:Ontmoetingsbijeenkomst volwassenen
DESCRIPTION:Vriendenkringen ontmoetingsbijeenkomst \nZondag 27 maart 2022 is er een Vriendenkringen ontmoetingsbijeenkomst voor volwassenen en ouderen! \nVolwassenen en ouderen vanaf 28 jaar kunnen tijdens de Vriendenkringen bijeenkomsten andere leeftijdsgenoten leren kennen. Tijdens deze ontmoetingsbijeenkomst gaan wij wandelen door het vondelpark. De wandeling duurt ongeveer een uur. Na het aanmelden hoor je hoe laat je bent ingedeeld! We verzamelen op het J.J. Cremerplein 27A. Kom je ook?
URL:https://www.vriendenkringenamsterdam.nl/activiteit/ontmoetingsbijeenkomst-volwassenen-8/
LOCATION:Cremer\, J. J. Cremerplein 27a\, Amsterdam\, Noord-Holland\, 1054TH\, Nederland
CATEGORIES:Volwassenen
END:VEVENT
END:VCALENDAR