BEGIN:VCALENDAR
VERSION:2.0
PRODID:-//Vriendenkringen Amsterdam - ECPv6.15.20//NONSGML v1.0//EN
CALSCALE:GREGORIAN
METHOD:PUBLISH
X-WR-CALNAME:Vriendenkringen Amsterdam
X-ORIGINAL-URL:https://www.vriendenkringenamsterdam.nl
X-WR-CALDESC:Evenementen voor Vriendenkringen Amsterdam
REFRESH-INTERVAL;VALUE=DURATION:PT1H
X-Robots-Tag:noindex
X-PUBLISHED-TTL:PT1H
BEGIN:VTIMEZONE
TZID:Europe/Amsterdam
BEGIN:DAYLIGHT
TZOFFSETFROM:+0100
TZOFFSETTO:+0200
TZNAME:CEST
DTSTART:20220327T010000
END:DAYLIGHT
BEGIN:STANDARD
TZOFFSETFROM:+0200
TZOFFSETTO:+0100
TZNAME:CET
DTSTART:20221030T010000
END:STANDARD
BEGIN:DAYLIGHT
TZOFFSETFROM:+0100
TZOFFSETTO:+0200
TZNAME:CEST
DTSTART:20230326T010000
END:DAYLIGHT
BEGIN:STANDARD
TZOFFSETFROM:+0200
TZOFFSETTO:+0100
TZNAME:CET
DTSTART:20231029T010000
END:STANDARD
BEGIN:DAYLIGHT
TZOFFSETFROM:+0100
TZOFFSETTO:+0200
TZNAME:CEST
DTSTART:20240331T010000
END:DAYLIGHT
BEGIN:STANDARD
TZOFFSETFROM:+0200
TZOFFSETTO:+0100
TZNAME:CET
DTSTART:20241027T010000
END:STANDARD
END:VTIMEZONE
BEGIN:VEVENT
DTSTART;TZID=Europe/Amsterdam:20231216T200000
DTEND;TZID=Europe/Amsterdam:20231216T233000
DTSTAMP:20260422T135335
CREATED:20231214T144108Z
LAST-MODIFIED:20231214T144108Z
UID:1915-1702756800-1702769400@www.vriendenkringenamsterdam.nl
SUMMARY:Kerst dansfeest 16 december Tolhuistuin
DESCRIPTION:Op zaterdag 16 december organiseert Vriendenkringen in samenwerking met Prisma en de Special Social Club een kerst-dansfeest in de Tolhuistuin! \nJong & Oud is welkom! \n📍 IJpromenade 2\, Tolhuistuin\n⏰ Zaterdag 16 december van 20.00 uur tot 00.00 uur\n‼️ Het kost 7\,50 euro (dit kan aan de deur contact of met pin worden betaald) \nKom je ook gezellig? \nVoor meer informatie:\nEsmee de Wit (Projectleidster Vriendenkringen)\nedwit@dock.nl 06-30966572
URL:https://www.vriendenkringenamsterdam.nl/activiteit/kerst-dansfeest-16-december-tolhuistuin/
LOCATION:Tolhuistuin\, IJpromenade 2\, Amsterdam\, 1031 KT 
CATEGORIES:Jongeren,Volwassenen
END:VEVENT
BEGIN:VEVENT
DTSTART;TZID=Europe/Amsterdam:20231220T190000
DTEND;TZID=Europe/Amsterdam:20231220T210000
DTSTAMP:20260422T135335
CREATED:20231214T144512Z
LAST-MODIFIED:20231214T144512Z
UID:1918-1703098800-1703106000@www.vriendenkringenamsterdam.nl
SUMMARY:Kerst samenkomst volwassenen - 20 december
DESCRIPTION:Kerst onmoetingsbijeenkomsten Vriendenkringen volwassenen\nWoensdag 20 december\nTijd: 19:00 uur tot 21:00 uur\nLocatie: Amsterdam West \nVriendenkringen organiseert een moment om samen te komen voor de feestdagen. Tijdens deze kerst-ontmoeting kan je gezellig een kopje koffie of thee komen drinken. Er zal een kerstmuziekje opstaan en je kan kerstkaarten knutselen. Kom je gezellig met ons het Vriendenkringen jaar afsluiten? Wij zorgen ook voor wat kleine hapjes. \nEsmee de Wit (projectleidster Vriendenkringen)\nedwit@dock.nl 06-30966572
URL:https://www.vriendenkringenamsterdam.nl/activiteit/kerst-samenkomst-volwassenen-20-december/
CATEGORIES:Volwassenen
END:VEVENT
END:VCALENDAR