BEGIN:VCALENDAR
VERSION:2.0
PRODID:-//Vriendenkringen Amsterdam - ECPv6.15.20//NONSGML v1.0//EN
CALSCALE:GREGORIAN
METHOD:PUBLISH
X-WR-CALNAME:Vriendenkringen Amsterdam
X-ORIGINAL-URL:https://www.vriendenkringenamsterdam.nl
X-WR-CALDESC:Evenementen voor Vriendenkringen Amsterdam
REFRESH-INTERVAL;VALUE=DURATION:PT1H
X-Robots-Tag:noindex
X-PUBLISHED-TTL:PT1H
BEGIN:VTIMEZONE
TZID:Europe/Amsterdam
BEGIN:DAYLIGHT
TZOFFSETFROM:+0100
TZOFFSETTO:+0200
TZNAME:CEST
DTSTART:20230326T010000
END:DAYLIGHT
BEGIN:STANDARD
TZOFFSETFROM:+0200
TZOFFSETTO:+0100
TZNAME:CET
DTSTART:20231029T010000
END:STANDARD
BEGIN:DAYLIGHT
TZOFFSETFROM:+0100
TZOFFSETTO:+0200
TZNAME:CEST
DTSTART:20240331T010000
END:DAYLIGHT
BEGIN:STANDARD
TZOFFSETFROM:+0200
TZOFFSETTO:+0100
TZNAME:CET
DTSTART:20241027T010000
END:STANDARD
BEGIN:DAYLIGHT
TZOFFSETFROM:+0100
TZOFFSETTO:+0200
TZNAME:CEST
DTSTART:20250330T010000
END:DAYLIGHT
BEGIN:STANDARD
TZOFFSETFROM:+0200
TZOFFSETTO:+0100
TZNAME:CET
DTSTART:20251026T010000
END:STANDARD
END:VTIMEZONE
BEGIN:VEVENT
DTSTART;TZID=Europe/Amsterdam:20240410T160000
DTEND;TZID=Europe/Amsterdam:20240410T171500
DTSTAMP:20260420T071745
CREATED:20240404T113746Z
LAST-MODIFIED:20240404T114214Z
UID:1937-1712764800-1712769300@www.vriendenkringenamsterdam.nl
SUMMARY:Vriendenkringen volwassen bijeenkomst - 10 april 2024
DESCRIPTION:Ontmoetingsbijeenkomst volwassenen 10 april 2024 \nEen keer per maand komen volwassenen vanaf 28 jaar uit Amsterdam West samen om elkaar beter te leren kennen en om nieuwe contacten op te doen. \nDeze maand organiseert Vriendenkringen een extra samenkomst: een wandeling op woensdagmiddag 10 april! Wij verzamelen in oud west en maken met een klein groepje een wandeling van ongeveer een uur door het Vondelpark. \nTijd: 16:00 – 17:15 uur\nLocatie: Vondelpark\nVoor meer informatie kan contact opgenomen worden met projectleider Esmee de Wit (06-30966572 edwit@dock.nl)
URL:https://www.vriendenkringenamsterdam.nl/activiteit/vriendenkringen-volwassen-bijeenkomst-10-april/
CATEGORIES:Volwassenen
END:VEVENT
BEGIN:VEVENT
DTSTART;TZID=Europe/Amsterdam:20240424T190000
DTEND;TZID=Europe/Amsterdam:20240424T203000
DTSTAMP:20260420T071745
CREATED:20240404T114035Z
LAST-MODIFIED:20240404T114155Z
UID:1939-1713985200-1713990600@www.vriendenkringenamsterdam.nl
SUMMARY:Vriendenkringen volwassen ontmoetingsbijeenkomst - 24 april 2024
DESCRIPTION:Ontmoetingsbijeenkomst volwassenen 24 april 2024 \nVriendenkringers vanaf 28 jaar uit Amsterdam West komen samen om elkaar beter te leren kennen en om nieuwe contacten op te doen. \nDe editie op woensdagavond 24 april staat in het teken van ontmoeting en koningsdag. Wij zullen diverse kleine koningsdagactiviteiten doen. Daarnaast organiseren wij een mini-rommelmarkt waarbij wij elkaar misschien wel blij kunnen maken! Wij willen je vragen om iets van huis mee te nemen wat je zelf niet meer gebruikt. Denk bijvoorbeeld aan een boek wat je al gelezen hebt\, een vaas\, kandelaar of kaarsen. Je kan zelf kiezen wat je leuk vindt om mee te nemen. Misschien kan je er iemand anders blij mee maken en zelf weer iets anders leuks uitkiezen! \nTijd: 19:00 – 20:30 uur\nLocatie: Amsterdam West\nVoor meer informatie kan contact opgenomen worden met projectleider Esmee de Wit (06-30966572 edwit@dock.nl)
URL:https://www.vriendenkringenamsterdam.nl/activiteit/vriendenkringen-volwassenen-ontmoetingsbijeenkomst-24-april-2024/
CATEGORIES:Volwassenen
END:VEVENT
END:VCALENDAR