BEGIN:VCALENDAR
VERSION:2.0
PRODID:-//Vriendenkringen Amsterdam - ECPv6.15.20//NONSGML v1.0//EN
CALSCALE:GREGORIAN
METHOD:PUBLISH
X-WR-CALNAME:Vriendenkringen Amsterdam
X-ORIGINAL-URL:https://www.vriendenkringenamsterdam.nl
X-WR-CALDESC:Evenementen voor Vriendenkringen Amsterdam
REFRESH-INTERVAL;VALUE=DURATION:PT1H
X-Robots-Tag:noindex
X-PUBLISHED-TTL:PT1H
BEGIN:VTIMEZONE
TZID:Europe/Amsterdam
BEGIN:DAYLIGHT
TZOFFSETFROM:+0100
TZOFFSETTO:+0200
TZNAME:CEST
DTSTART:20230326T010000
END:DAYLIGHT
BEGIN:STANDARD
TZOFFSETFROM:+0200
TZOFFSETTO:+0100
TZNAME:CET
DTSTART:20231029T010000
END:STANDARD
BEGIN:DAYLIGHT
TZOFFSETFROM:+0100
TZOFFSETTO:+0200
TZNAME:CEST
DTSTART:20240331T010000
END:DAYLIGHT
BEGIN:STANDARD
TZOFFSETFROM:+0200
TZOFFSETTO:+0100
TZNAME:CET
DTSTART:20241027T010000
END:STANDARD
BEGIN:DAYLIGHT
TZOFFSETFROM:+0100
TZOFFSETTO:+0200
TZNAME:CEST
DTSTART:20250330T010000
END:DAYLIGHT
BEGIN:STANDARD
TZOFFSETFROM:+0200
TZOFFSETTO:+0100
TZNAME:CET
DTSTART:20251026T010000
END:STANDARD
END:VTIMEZONE
BEGIN:VEVENT
DTSTART;TZID=Europe/Amsterdam:20240929T120000
DTEND;TZID=Europe/Amsterdam:20240929T133000
DTSTAMP:20260419T225602
CREATED:20240919T132141Z
LAST-MODIFIED:20240919T133934Z
UID:1965-1727611200-1727616600@www.vriendenkringenamsterdam.nl
SUMMARY:Vriendenkringen ontmoetingsbijeenkomst volwassenen - 29 september 2024
DESCRIPTION:Op zondag 29 september vindt er weer een Vriendenkringen ontmoetingsbijeenkomst plaats voor volwassenen en ouderen (vanaf 28 jaar) uit Amsterdam West. Deze bijeenkomst zullen we onder andere verschillende kennismakingsspellen doen om elkaar beter te leren kennen. Komt u ook nieuwe mensen ontmoeten? \nDe bijeenkomst duurt van 12:00 tot 13:30 in Amsterdam west maar daarna is er nog een halfuur ruimte om met elkaar na te kletsen met een kop thee of koffie. \nAanmelden kan bij projectleider Esmee de Wit\n06-30966572\nedwit@dock.nl
URL:https://www.vriendenkringenamsterdam.nl/activiteit/vriendenkringen-ontmoetingsbijeenkomst-volwassenen-29-september-2024/
CATEGORIES:Volwassenen
END:VEVENT
END:VCALENDAR