BEGIN:VCALENDAR
VERSION:2.0
PRODID:-//Vriendenkringen Amsterdam - ECPv6.15.20//NONSGML v1.0//EN
CALSCALE:GREGORIAN
METHOD:PUBLISH
X-WR-CALNAME:Vriendenkringen Amsterdam
X-ORIGINAL-URL:https://www.vriendenkringenamsterdam.nl
X-WR-CALDESC:Evenementen voor Vriendenkringen Amsterdam
REFRESH-INTERVAL;VALUE=DURATION:PT1H
X-Robots-Tag:noindex
X-PUBLISHED-TTL:PT1H
BEGIN:VTIMEZONE
TZID:Europe/Amsterdam
BEGIN:DAYLIGHT
TZOFFSETFROM:+0100
TZOFFSETTO:+0200
TZNAME:CEST
DTSTART:20200329T010000
END:DAYLIGHT
BEGIN:STANDARD
TZOFFSETFROM:+0200
TZOFFSETTO:+0100
TZNAME:CET
DTSTART:20201025T010000
END:STANDARD
BEGIN:DAYLIGHT
TZOFFSETFROM:+0100
TZOFFSETTO:+0200
TZNAME:CEST
DTSTART:20210328T010000
END:DAYLIGHT
BEGIN:STANDARD
TZOFFSETFROM:+0200
TZOFFSETTO:+0100
TZNAME:CET
DTSTART:20211031T010000
END:STANDARD
BEGIN:DAYLIGHT
TZOFFSETFROM:+0100
TZOFFSETTO:+0200
TZNAME:CEST
DTSTART:20220327T010000
END:DAYLIGHT
BEGIN:STANDARD
TZOFFSETFROM:+0200
TZOFFSETTO:+0100
TZNAME:CET
DTSTART:20221030T010000
END:STANDARD
END:VTIMEZONE
BEGIN:VEVENT
DTSTART;TZID=Europe/Amsterdam:20210316T103000
DTEND;TZID=Europe/Amsterdam:20210316T140000
DTSTAMP:20260424T211954
CREATED:20210303T151200Z
LAST-MODIFIED:20210310T113804Z
UID:1344-1615890600-1615903200@www.vriendenkringenamsterdam.nl
SUMMARY:Volwassen bijeenkomst
DESCRIPTION:Er zijn vanwege de coronamaatregelen 2 groepen. Groep 1 is van 10:30 tot 12:00 en groep 2 is van 12:30 tot 14:00. Per groep kunnen zich maximaal 8 deelnemers aanmelden. Aanmelden is dan ook verplicht! Dit kan bij Joris: 06-59955906 of bij Esmee: 06-30966572. Het is gezellig als je ook komt!
URL:https://www.vriendenkringenamsterdam.nl/activiteit/volwassen-bijeenkomst/
LOCATION:’t Landhuis\, Gerard Callenburgstraat 38\, Amsterdam\, Noord-Holland\, 1055 VC
CATEGORIES:Volwassenen
END:VEVENT
END:VCALENDAR