BEGIN:VCALENDAR
VERSION:2.0
PRODID:-//Vriendenkringen Amsterdam - ECPv6.15.20//NONSGML v1.0//EN
CALSCALE:GREGORIAN
METHOD:PUBLISH
X-WR-CALNAME:Vriendenkringen Amsterdam
X-ORIGINAL-URL:https://www.vriendenkringenamsterdam.nl
X-WR-CALDESC:Evenementen voor Vriendenkringen Amsterdam
REFRESH-INTERVAL;VALUE=DURATION:PT1H
X-Robots-Tag:noindex
X-PUBLISHED-TTL:PT1H
BEGIN:VTIMEZONE
TZID:Europe/Amsterdam
BEGIN:DAYLIGHT
TZOFFSETFROM:+0100
TZOFFSETTO:+0200
TZNAME:CEST
DTSTART:20200329T010000
END:DAYLIGHT
BEGIN:STANDARD
TZOFFSETFROM:+0200
TZOFFSETTO:+0100
TZNAME:CET
DTSTART:20201025T010000
END:STANDARD
BEGIN:DAYLIGHT
TZOFFSETFROM:+0100
TZOFFSETTO:+0200
TZNAME:CEST
DTSTART:20210328T010000
END:DAYLIGHT
BEGIN:STANDARD
TZOFFSETFROM:+0200
TZOFFSETTO:+0100
TZNAME:CET
DTSTART:20211031T010000
END:STANDARD
BEGIN:DAYLIGHT
TZOFFSETFROM:+0100
TZOFFSETTO:+0200
TZNAME:CEST
DTSTART:20220327T010000
END:DAYLIGHT
BEGIN:STANDARD
TZOFFSETFROM:+0200
TZOFFSETTO:+0100
TZNAME:CET
DTSTART:20221030T010000
END:STANDARD
END:VTIMEZONE
BEGIN:VEVENT
DTSTART;TZID=Europe/Amsterdam:20210324T193000
DTEND;TZID=Europe/Amsterdam:20210324T203000
DTSTAMP:20260424T211954
CREATED:20210303T152404Z
LAST-MODIFIED:20210310T113723Z
UID:1350-1616614200-1616617800@www.vriendenkringenamsterdam.nl
SUMMARY:Online volwassen bijeenkomst
DESCRIPTION:De eerste online bijeenkomst van de maand! Kom je ook gezellig? Meld je nu aan bij Joris: 06-59955906 of bij Esmee: 06-30966572.
URL:https://www.vriendenkringenamsterdam.nl/activiteit/online-volwassen-bijeenkomst/
LOCATION:Online
CATEGORIES:Volwassenen
END:VEVENT
END:VCALENDAR