BEGIN:VCALENDAR
VERSION:2.0
PRODID:-//Vriendenkringen Amsterdam - ECPv6.15.20//NONSGML v1.0//EN
CALSCALE:GREGORIAN
METHOD:PUBLISH
X-WR-CALNAME:Vriendenkringen Amsterdam
X-ORIGINAL-URL:https://www.vriendenkringenamsterdam.nl
X-WR-CALDESC:Evenementen voor Vriendenkringen Amsterdam
REFRESH-INTERVAL;VALUE=DURATION:PT1H
X-Robots-Tag:noindex
X-PUBLISHED-TTL:PT1H
BEGIN:VTIMEZONE
TZID:Europe/Amsterdam
BEGIN:DAYLIGHT
TZOFFSETFROM:+0100
TZOFFSETTO:+0200
TZNAME:CEST
DTSTART:20200329T010000
END:DAYLIGHT
BEGIN:STANDARD
TZOFFSETFROM:+0200
TZOFFSETTO:+0100
TZNAME:CET
DTSTART:20201025T010000
END:STANDARD
BEGIN:DAYLIGHT
TZOFFSETFROM:+0100
TZOFFSETTO:+0200
TZNAME:CEST
DTSTART:20210328T010000
END:DAYLIGHT
BEGIN:STANDARD
TZOFFSETFROM:+0200
TZOFFSETTO:+0100
TZNAME:CET
DTSTART:20211031T010000
END:STANDARD
BEGIN:DAYLIGHT
TZOFFSETFROM:+0100
TZOFFSETTO:+0200
TZNAME:CEST
DTSTART:20220327T010000
END:DAYLIGHT
BEGIN:STANDARD
TZOFFSETFROM:+0200
TZOFFSETTO:+0100
TZNAME:CET
DTSTART:20221030T010000
END:STANDARD
END:VTIMEZONE
BEGIN:VEVENT
DTSTART;TZID=Europe/Amsterdam:20210425T100000
DTEND;TZID=Europe/Amsterdam:20210425T123000
DTSTAMP:20260424T195017
CREATED:20210407T112424Z
LAST-MODIFIED:20210407T112424Z
UID:1373-1619344800-1619353800@www.vriendenkringenamsterdam.nl
SUMMARY:Volwassenenbijeenkomst Cremer
DESCRIPTION:Kom je ook gezellig nieuwe mensen ontmoeten? \nEr zijn twee groepen\, voor beide groepen duurt de bijeenkomst 1 uur. \nNadat jij je hebt aangemeld hoor je hoe laat je bent ingedeeld. \n\n\nAanmelden is verplicht en VOL = VOL! \n\n\nAanmelden kan bij Esmee de Wit: 06-30966572 of via edwit@dock.nl \n\n\n  \n\n\nVoor een routebeschrijving naar deze locatie kunt u ook mailen naar de bovenstaande gegevens.
URL:https://www.vriendenkringenamsterdam.nl/activiteit/volwassenenbijeenkomst-cremer/
LOCATION:Cremer\, J. J. Cremerplein 27a\, Amsterdam\, Noord-Holland\, 1054TH\, Nederland
CATEGORIES:Volwassenen
END:VEVENT
END:VCALENDAR