BEGIN:VCALENDAR
VERSION:2.0
PRODID:-//Vriendenkringen Amsterdam - ECPv6.15.20//NONSGML v1.0//EN
CALSCALE:GREGORIAN
METHOD:PUBLISH
X-ORIGINAL-URL:https://www.vriendenkringenamsterdam.nl
X-WR-CALDESC:Evenementen voor Vriendenkringen Amsterdam
REFRESH-INTERVAL;VALUE=DURATION:PT1H
X-Robots-Tag:noindex
X-PUBLISHED-TTL:PT1H
BEGIN:VTIMEZONE
TZID:Europe/Amsterdam
BEGIN:DAYLIGHT
TZOFFSETFROM:+0100
TZOFFSETTO:+0200
TZNAME:CEST
DTSTART:20200329T010000
END:DAYLIGHT
BEGIN:STANDARD
TZOFFSETFROM:+0200
TZOFFSETTO:+0100
TZNAME:CET
DTSTART:20201025T010000
END:STANDARD
BEGIN:DAYLIGHT
TZOFFSETFROM:+0100
TZOFFSETTO:+0200
TZNAME:CEST
DTSTART:20210328T010000
END:DAYLIGHT
BEGIN:STANDARD
TZOFFSETFROM:+0200
TZOFFSETTO:+0100
TZNAME:CET
DTSTART:20211031T010000
END:STANDARD
BEGIN:DAYLIGHT
TZOFFSETFROM:+0100
TZOFFSETTO:+0200
TZNAME:CEST
DTSTART:20220327T010000
END:DAYLIGHT
BEGIN:STANDARD
TZOFFSETFROM:+0200
TZOFFSETTO:+0100
TZNAME:CET
DTSTART:20221030T010000
END:STANDARD
END:VTIMEZONE
BEGIN:VEVENT
DTSTART;TZID=Europe/Amsterdam:20210510T100000
DTEND;TZID=Europe/Amsterdam:20210530T140000
DTSTAMP:20260424T182627
CREATED:20210510T111724Z
LAST-MODIFIED:20210512T071959Z
UID:1383-1620640800-1622383200@www.vriendenkringenamsterdam.nl
SUMMARY:Ontmoetingsbijeenkomst volwassenen
DESCRIPTION:Kom jij ook gezellig langs om nieuwe mensen te ontmoeten?  \n\n\nEr zijn drie groepen\, voor alle groepen duurt de bijeenkomst een uur.  \n\n\nNa het aanmelden hoor je hoe laat je bent ingedeeld.  \n\n\nAanmelden is verplicht en VOL = VOL!  \n\n\nAanmelden kan bij Esmee de Wit: 06-30966572 of via edwit@dock.nl 
URL:https://www.vriendenkringenamsterdam.nl/activiteit/ontmoetingsbijeenkomst-volwassenen-6/
LOCATION:Cremer\, J. J. Cremerplein 27a\, Amsterdam\, Noord-Holland\, 1054TH\, Nederland
CATEGORIES:Volwassenen
END:VEVENT
END:VCALENDAR