BEGIN:VCALENDAR
VERSION:2.0
PRODID:-//Vriendenkringen Amsterdam - ECPv6.15.20//NONSGML v1.0//EN
CALSCALE:GREGORIAN
METHOD:PUBLISH
X-WR-CALNAME:Vriendenkringen Amsterdam
X-ORIGINAL-URL:https://www.vriendenkringenamsterdam.nl
X-WR-CALDESC:Evenementen voor Vriendenkringen Amsterdam
REFRESH-INTERVAL;VALUE=DURATION:PT1H
X-Robots-Tag:noindex
X-PUBLISHED-TTL:PT1H
BEGIN:VTIMEZONE
TZID:Europe/Amsterdam
BEGIN:DAYLIGHT
TZOFFSETFROM:+0100
TZOFFSETTO:+0200
TZNAME:CEST
DTSTART:20220327T010000
END:DAYLIGHT
BEGIN:STANDARD
TZOFFSETFROM:+0200
TZOFFSETTO:+0100
TZNAME:CET
DTSTART:20221030T010000
END:STANDARD
BEGIN:DAYLIGHT
TZOFFSETFROM:+0100
TZOFFSETTO:+0200
TZNAME:CEST
DTSTART:20230326T010000
END:DAYLIGHT
BEGIN:STANDARD
TZOFFSETFROM:+0200
TZOFFSETTO:+0100
TZNAME:CET
DTSTART:20231029T010000
END:STANDARD
BEGIN:DAYLIGHT
TZOFFSETFROM:+0100
TZOFFSETTO:+0200
TZNAME:CEST
DTSTART:20240331T010000
END:DAYLIGHT
BEGIN:STANDARD
TZOFFSETFROM:+0200
TZOFFSETTO:+0100
TZNAME:CET
DTSTART:20241027T010000
END:STANDARD
END:VTIMEZONE
BEGIN:VEVENT
DTSTART;TZID=Europe/Amsterdam:20231003T171500
DTEND;TZID=Europe/Amsterdam:20231003T193000
DTSTAMP:20260422T184536
CREATED:20230925T125240Z
LAST-MODIFIED:20230925T125240Z
UID:1904-1696353300-1696361400@www.vriendenkringenamsterdam.nl
SUMMARY:Het Verbindingsdiner - 3 oktober
DESCRIPTION:Op dinsdag 3 oktober organiseert Vriendenkringen in samenwerking met Stichting Prisma ‘Het Verbindingsdiner.’ \nEet je ook gezellig mee? Aanmelden kan bij Esmee de Wit van Vriendenkringen (06-30966572 edwit@dock.nl).
URL:https://www.vriendenkringenamsterdam.nl/activiteit/het-verbindingsdiner-3-oktober/
LOCATION:Huis van de Wijk de Havelaar\, DouwesDekkerstraat 2\, Amsterdam\, 1053SX\, Nederland
CATEGORIES:Jongeren,Volwassenen
END:VEVENT
END:VCALENDAR