BEGIN:VCALENDAR
VERSION:2.0
PRODID:-//Vriendenkringen Amsterdam - ECPv6.15.20//NONSGML v1.0//EN
CALSCALE:GREGORIAN
METHOD:PUBLISH
X-ORIGINAL-URL:https://www.vriendenkringenamsterdam.nl
X-WR-CALDESC:Evenementen voor Vriendenkringen Amsterdam
REFRESH-INTERVAL;VALUE=DURATION:PT1H
X-Robots-Tag:noindex
X-PUBLISHED-TTL:PT1H
BEGIN:VTIMEZONE
TZID:Europe/Amsterdam
BEGIN:DAYLIGHT
TZOFFSETFROM:+0100
TZOFFSETTO:+0200
TZNAME:CEST
DTSTART:20230326T010000
END:DAYLIGHT
BEGIN:STANDARD
TZOFFSETFROM:+0200
TZOFFSETTO:+0100
TZNAME:CET
DTSTART:20231029T010000
END:STANDARD
BEGIN:DAYLIGHT
TZOFFSETFROM:+0100
TZOFFSETTO:+0200
TZNAME:CEST
DTSTART:20240331T010000
END:DAYLIGHT
BEGIN:STANDARD
TZOFFSETFROM:+0200
TZOFFSETTO:+0100
TZNAME:CET
DTSTART:20241027T010000
END:STANDARD
BEGIN:DAYLIGHT
TZOFFSETFROM:+0100
TZOFFSETTO:+0200
TZNAME:CEST
DTSTART:20250330T010000
END:DAYLIGHT
BEGIN:STANDARD
TZOFFSETFROM:+0200
TZOFFSETTO:+0100
TZNAME:CET
DTSTART:20251026T010000
END:STANDARD
END:VTIMEZONE
BEGIN:VEVENT
DTSTART;TZID=Europe/Amsterdam:20241222T130000
DTEND;TZID=Europe/Amsterdam:20241222T150000
DTSTAMP:20260419T200027
CREATED:20241204T105248Z
LAST-MODIFIED:20241204T105248Z
UID:2029-1734872400-1734879600@www.vriendenkringenamsterdam.nl
SUMMARY:Kerst special vriendenkringen jeugd en volwassenen - 22 december 2024
DESCRIPTION:Het einde is in zicht en dat betekent dat het tijd is voor onze kerstspecial! Op zondag 22 december vind deze speciale editie plaatst voor jongeren uit heel Amsterdam en voor volwassenen en ouderen uit Amsterdam west. Tijdens deze gezellige middag zijn er verschillende activiteiten te doen. \nVoor meer informatie kan contact opgenomen worden met projectleider Emmelotte van der Werff \nTelefoon: 06-30966572 \nEmail: evanderwerff@dock.nl
URL:https://www.vriendenkringenamsterdam.nl/activiteit/kerst-special-vriendenkringen-jeugd-en-volwassenen-22-december-2024/
CATEGORIES:Jongeren,Volwassenen
END:VEVENT
END:VCALENDAR