BEGIN:VCALENDAR
VERSION:2.0
PRODID:-//Vriendenkringen Amsterdam - ECPv6.15.20//NONSGML v1.0//EN
CALSCALE:GREGORIAN
METHOD:PUBLISH
X-ORIGINAL-URL:https://www.vriendenkringenamsterdam.nl
X-WR-CALDESC:Evenementen voor Vriendenkringen Amsterdam
REFRESH-INTERVAL;VALUE=DURATION:PT1H
X-Robots-Tag:noindex
X-PUBLISHED-TTL:PT1H
BEGIN:VTIMEZONE
TZID:Europe/Amsterdam
BEGIN:DAYLIGHT
TZOFFSETFROM:+0100
TZOFFSETTO:+0200
TZNAME:CEST
DTSTART:20230326T010000
END:DAYLIGHT
BEGIN:STANDARD
TZOFFSETFROM:+0200
TZOFFSETTO:+0100
TZNAME:CET
DTSTART:20231029T010000
END:STANDARD
BEGIN:DAYLIGHT
TZOFFSETFROM:+0100
TZOFFSETTO:+0200
TZNAME:CEST
DTSTART:20240331T010000
END:DAYLIGHT
BEGIN:STANDARD
TZOFFSETFROM:+0200
TZOFFSETTO:+0100
TZNAME:CET
DTSTART:20241027T010000
END:STANDARD
BEGIN:DAYLIGHT
TZOFFSETFROM:+0100
TZOFFSETTO:+0200
TZNAME:CEST
DTSTART:20250330T010000
END:DAYLIGHT
BEGIN:STANDARD
TZOFFSETFROM:+0200
TZOFFSETTO:+0100
TZNAME:CET
DTSTART:20251026T010000
END:STANDARD
BEGIN:DAYLIGHT
TZOFFSETFROM:+0100
TZOFFSETTO:+0200
TZNAME:CEST
DTSTART:20260329T010000
END:DAYLIGHT
BEGIN:STANDARD
TZOFFSETFROM:+0200
TZOFFSETTO:+0100
TZNAME:CET
DTSTART:20261025T010000
END:STANDARD
END:VTIMEZONE
BEGIN:VEVENT
DTSTART;TZID=Europe/Amsterdam:20240410T160000
DTEND;TZID=Europe/Amsterdam:20240410T171500
DTSTAMP:20260420T090756
CREATED:20240404T113746Z
LAST-MODIFIED:20240404T114214Z
UID:1937-1712764800-1712769300@www.vriendenkringenamsterdam.nl
SUMMARY:Vriendenkringen volwassen bijeenkomst - 10 april 2024
DESCRIPTION:Ontmoetingsbijeenkomst volwassenen 10 april 2024 \nEen keer per maand komen volwassenen vanaf 28 jaar uit Amsterdam West samen om elkaar beter te leren kennen en om nieuwe contacten op te doen. \nDeze maand organiseert Vriendenkringen een extra samenkomst: een wandeling op woensdagmiddag 10 april! Wij verzamelen in oud west en maken met een klein groepje een wandeling van ongeveer een uur door het Vondelpark. \nTijd: 16:00 – 17:15 uur\nLocatie: Vondelpark\nVoor meer informatie kan contact opgenomen worden met projectleider Esmee de Wit (06-30966572 edwit@dock.nl)
URL:https://www.vriendenkringenamsterdam.nl/activiteit/vriendenkringen-volwassen-bijeenkomst-10-april/
CATEGORIES:Volwassenen
END:VEVENT
BEGIN:VEVENT
DTSTART;TZID=Europe/Amsterdam:20240424T190000
DTEND;TZID=Europe/Amsterdam:20240424T203000
DTSTAMP:20260420T090756
CREATED:20240404T114035Z
LAST-MODIFIED:20240404T114155Z
UID:1939-1713985200-1713990600@www.vriendenkringenamsterdam.nl
SUMMARY:Vriendenkringen volwassen ontmoetingsbijeenkomst - 24 april 2024
DESCRIPTION:Ontmoetingsbijeenkomst volwassenen 24 april 2024 \nVriendenkringers vanaf 28 jaar uit Amsterdam West komen samen om elkaar beter te leren kennen en om nieuwe contacten op te doen. \nDe editie op woensdagavond 24 april staat in het teken van ontmoeting en koningsdag. Wij zullen diverse kleine koningsdagactiviteiten doen. Daarnaast organiseren wij een mini-rommelmarkt waarbij wij elkaar misschien wel blij kunnen maken! Wij willen je vragen om iets van huis mee te nemen wat je zelf niet meer gebruikt. Denk bijvoorbeeld aan een boek wat je al gelezen hebt\, een vaas\, kandelaar of kaarsen. Je kan zelf kiezen wat je leuk vindt om mee te nemen. Misschien kan je er iemand anders blij mee maken en zelf weer iets anders leuks uitkiezen! \nTijd: 19:00 – 20:30 uur\nLocatie: Amsterdam West\nVoor meer informatie kan contact opgenomen worden met projectleider Esmee de Wit (06-30966572 edwit@dock.nl)
URL:https://www.vriendenkringenamsterdam.nl/activiteit/vriendenkringen-volwassenen-ontmoetingsbijeenkomst-24-april-2024/
CATEGORIES:Volwassenen
END:VEVENT
BEGIN:VEVENT
DTSTART;TZID=Europe/Amsterdam:20240929T120000
DTEND;TZID=Europe/Amsterdam:20240929T133000
DTSTAMP:20260420T090756
CREATED:20240919T132141Z
LAST-MODIFIED:20240919T133934Z
UID:1965-1727611200-1727616600@www.vriendenkringenamsterdam.nl
SUMMARY:Vriendenkringen ontmoetingsbijeenkomst volwassenen - 29 september 2024
DESCRIPTION:Op zondag 29 september vindt er weer een Vriendenkringen ontmoetingsbijeenkomst plaats voor volwassenen en ouderen (vanaf 28 jaar) uit Amsterdam West. Deze bijeenkomst zullen we onder andere verschillende kennismakingsspellen doen om elkaar beter te leren kennen. Komt u ook nieuwe mensen ontmoeten? \nDe bijeenkomst duurt van 12:00 tot 13:30 in Amsterdam west maar daarna is er nog een halfuur ruimte om met elkaar na te kletsen met een kop thee of koffie. \nAanmelden kan bij projectleider Esmee de Wit\n06-30966572\nedwit@dock.nl
URL:https://www.vriendenkringenamsterdam.nl/activiteit/vriendenkringen-ontmoetingsbijeenkomst-volwassenen-29-september-2024/
CATEGORIES:Volwassenen
END:VEVENT
BEGIN:VEVENT
DTSTART;TZID=Europe/Amsterdam:20241001T171500
DTEND;TZID=Europe/Amsterdam:20241001T193000
DTSTAMP:20260420T090756
CREATED:20240919T133458Z
LAST-MODIFIED:20240919T134024Z
UID:1969-1727802900-1727811000@www.vriendenkringenamsterdam.nl
SUMMARY:Het verbindingsdiner - 1 oktober 2024
DESCRIPTION:Het verbindingsdiner is terug op 1 oktober 2024! \nVriendenkringen en Prisma organiseren een diner tijdens de Week van de Verbinding. Deze dinsdag avond staan wij erbij stil hoe fijn het is om anderen om je heen te hebben. Tijdens dit diner schuiven wij aan bij een buurtmaaltijd van de Havelaar\, want samen eten verbindt. Jongeren\, volwassenen en ouderen zijn welkom. Schuif jij ook aan? \nAanmelden kan bij projectleider Esmee de Wit \n06 30966572/edwit@dock.nl
URL:https://www.vriendenkringenamsterdam.nl/activiteit/het-verbindingsdiner-1-oktober-2024/
LOCATION:Huis van de Wijk de Havelaar\, DouwesDekkerstraat 2\, Amsterdam\, 1053SX\, Nederland
CATEGORIES:Jongeren,Volwassenen
END:VEVENT
BEGIN:VEVENT
DTSTART;TZID=Europe/Amsterdam:20241124T120000
DTEND;TZID=Europe/Amsterdam:20241124T133000
DTSTAMP:20260420T090756
CREATED:20241024T084356Z
LAST-MODIFIED:20241024T084356Z
UID:2011-1732449600-1732455000@www.vriendenkringenamsterdam.nl
SUMMARY:Vriendenkringen ontmoetingsbijeenkomst volwassenen - 24 november 2024
DESCRIPTION:Op zondag 24 november vindt er weer een Vriendenkringen ontmoetingsbijeenkomst plaats voor volwassenen en ouderen (vanaf 28 jaar) uit Amsterdam West. Deze bijeenkomst zullen we onder andere verschillende kennismakingsspellen doen om elkaar beter te leren kennen. Komt u ook nieuwe mensen ontmoeten? \nDe bijeenkomst duurt van 12:00 tot 13:30 in Amsterdam west maar daarna is er nog een halfuur ruimte om met elkaar na te kletsen met een kop thee of koffie. \nAanmelden kan bij projectleider Emmelotte van der Werff\n06-30966572\nevanderwerff@dock.nl
URL:https://www.vriendenkringenamsterdam.nl/activiteit/vriendenkringen-ontmoetingsbijeenkomst-volwassenen-24-november-2024/
CATEGORIES:Volwassenen
END:VEVENT
BEGIN:VEVENT
DTSTART;TZID=Europe/Amsterdam:20241209T160000
DTEND;TZID=Europe/Amsterdam:20241209T173000
DTSTAMP:20260420T090756
CREATED:20241204T104317Z
LAST-MODIFIED:20241204T104623Z
UID:2023-1733760000-1733765400@www.vriendenkringenamsterdam.nl
SUMMARY:Mindfulness training volwassenen - 9 december 2024
DESCRIPTION:Op maandag 9 december vind er een mindfulness training plaatst voor volwassenen en ouderen vanaf 28 jaar uit Amsterdam west! Dit is een waardevolle training die je leert beter om te gaan met stress en meer balans te vinden in je dagelijks leven. De training is van 16:00 tot ongeveer 17:30\, en daarna is er ruimte om nog even te blijven zitten\, napraten of ontspannen. \nVoor meer informatie kan contact opgenomen worden met projectleider Emmelotte van der Werff \nTelefoon: 06-30966572 \nEmail: evanderwerff@dock.nl
URL:https://www.vriendenkringenamsterdam.nl/activiteit/mindfulness-training-volwassenen-9-december-2024/
CATEGORIES:Volwassenen
END:VEVENT
BEGIN:VEVENT
DTSTART;TZID=Europe/Amsterdam:20241222T130000
DTEND;TZID=Europe/Amsterdam:20241222T150000
DTSTAMP:20260420T090756
CREATED:20241204T105248Z
LAST-MODIFIED:20241204T105248Z
UID:2029-1734872400-1734879600@www.vriendenkringenamsterdam.nl
SUMMARY:Kerst special vriendenkringen jeugd en volwassenen - 22 december 2024
DESCRIPTION:Het einde is in zicht en dat betekent dat het tijd is voor onze kerstspecial! Op zondag 22 december vind deze speciale editie plaatst voor jongeren uit heel Amsterdam en voor volwassenen en ouderen uit Amsterdam west. Tijdens deze gezellige middag zijn er verschillende activiteiten te doen. \nVoor meer informatie kan contact opgenomen worden met projectleider Emmelotte van der Werff \nTelefoon: 06-30966572 \nEmail: evanderwerff@dock.nl
URL:https://www.vriendenkringenamsterdam.nl/activiteit/kerst-special-vriendenkringen-jeugd-en-volwassenen-22-december-2024/
CATEGORIES:Jongeren,Volwassenen
END:VEVENT
BEGIN:VEVENT
DTSTART;TZID=Europe/Amsterdam:20250126T120000
DTEND;TZID=Europe/Amsterdam:20250126T133000
DTSTAMP:20260420T090756
CREATED:20250106T081419Z
LAST-MODIFIED:20250106T081419Z
UID:2039-1737892800-1737898200@www.vriendenkringenamsterdam.nl
SUMMARY:Vriendenkringen ontmoetingsbijeenkomst volwassenen - 26 januari 2025
DESCRIPTION:Op zondag 26 januari vindt er weer een Vriendenkringen ontmoetingsbijeenkomst plaats voor volwassenen en ouderen (vanaf 28 jaar) uit Amsterdam West. Deze bijeenkomst zullen we onder andere verschillende kennismakingsspellen doen om elkaar beter te leren kennen. Komt u ook nieuwe mensen ontmoeten? \nDe bijeenkomst duurt van 12:00 tot 13:30 in Amsterdam west maar daarna is er nog een halfuur ruimte om met elkaar na te kletsen met een kop thee of koffie. \nAanmelden kan bij projectleider Emmelotte van der Werff\n06-30966572\nevanderwerff@dock.nl
URL:https://www.vriendenkringenamsterdam.nl/activiteit/vriendenkringen-ontmoetingsbijeenkomst-volwassenen-26-januari-2025/
CATEGORIES:Volwassenen
END:VEVENT
BEGIN:VEVENT
DTSTART;TZID=Europe/Amsterdam:20250223T120000
DTEND;TZID=Europe/Amsterdam:20250223T133000
DTSTAMP:20260420T090756
CREATED:20250121T110609Z
LAST-MODIFIED:20250121T110609Z
UID:2050-1740312000-1740317400@www.vriendenkringenamsterdam.nl
SUMMARY:Vriendenkringen ontmoetingsbijeenkomst volwassenen - 23 februari 2025
DESCRIPTION:Op zondag 23 februari vindt er weer een Vriendenkringen ontmoetingsbijeenkomst plaats voor volwassenen en ouderen (vanaf 28 jaar) uit Amsterdam West. Deze bijeenkomst zullen we onder andere verschillende kennismakingsspellen doen om elkaar beter te leren kennen. Komt u ook nieuwe mensen ontmoeten? \nDe bijeenkomst duurt van 12:00 tot 13:30 in Amsterdam west maar daarna is er nog een halfuur ruimte om met elkaar na te kletsen met een kop thee of koffie. \nAanmelden kan bij projectleider Emmelotte van der Werff\n06-30966572\nevanderwerff@dock.nl
URL:https://www.vriendenkringenamsterdam.nl/activiteit/vriendenkringen-ontmoetingsbijeenkomst-volwassenen-23-februari-2025/
CATEGORIES:Volwassenen
END:VEVENT
BEGIN:VEVENT
DTSTART;TZID=Europe/Amsterdam:20250330T120000
DTEND;TZID=Europe/Amsterdam:20250330T133000
DTSTAMP:20260420T090756
CREATED:20250203T093424Z
LAST-MODIFIED:20250303T121238Z
UID:2059-1743336000-1743341400@www.vriendenkringenamsterdam.nl
SUMMARY:Vriendenkringen ontmoetingsbijeenkomst volwassenen - 30 maart 2025
DESCRIPTION:Op zondag 30 maart vindt er weer een Vriendenkringen ontmoetingsbijeenkomst plaats voor volwassenen en ouderen (vanaf 28 jaar) uit Amsterdam West. Deze bijeenkomst zullen we onder andere verschillende kennismakingsspellen doen om elkaar beter te leren kennen. Komt u ook nieuwe mensen ontmoeten? \nDe bijeenkomst duurt van 12:00 tot 13:30 in Amsterdam west maar daarna is er nog een halfuur ruimte om met elkaar na te kletsen met een kop thee of koffie. \nAanmelden kan bij projectleider Emmelotte van der Werff\n06-30966572\nevanderwerff@dock.nl
URL:https://www.vriendenkringenamsterdam.nl/activiteit/vriendenkringen-ontmoetingsbijeenkomst-volwassenen-30-maart-2025/
CATEGORIES:Volwassenen
END:VEVENT
BEGIN:VEVENT
DTSTART;TZID=Europe/Amsterdam:20250427T120000
DTEND;TZID=Europe/Amsterdam:20250427T133000
DTSTAMP:20260420T090756
CREATED:20250303T121343Z
LAST-MODIFIED:20250303T121343Z
UID:2066-1745755200-1745760600@www.vriendenkringenamsterdam.nl
SUMMARY:Vriendenkringen ontmoetingsbijeenkomst volwassenen - 27 april 2025
DESCRIPTION:Op zondag 27 april vindt er weer een Vriendenkringen ontmoetingsbijeenkomst plaats voor volwassenen en ouderen (vanaf 28 jaar) uit Amsterdam West. Deze bijeenkomst zullen we onder andere verschillende kennismakingsspellen doen om elkaar beter te leren kennen. Komt u ook nieuwe mensen ontmoeten? \nDe bijeenkomst duurt van 12:00 tot 13:30 in Amsterdam west maar daarna is er nog een halfuur ruimte om met elkaar na te kletsen met een kop thee of koffie. \nAanmelden kan bij projectleider Emmelotte van der Werff\n06-30966572\nevanderwerff@dock.nl
URL:https://www.vriendenkringenamsterdam.nl/activiteit/vriendenkringen-ontmoetingsbijeenkomst-volwassenen-27-april-2025/
CATEGORIES:Volwassenen
END:VEVENT
BEGIN:VEVENT
DTSTART;TZID=Europe/Amsterdam:20250525T120000
DTEND;TZID=Europe/Amsterdam:20250525T133000
DTSTAMP:20260420T090756
CREATED:20250509T110338Z
LAST-MODIFIED:20250509T110338Z
UID:2081-1748174400-1748179800@www.vriendenkringenamsterdam.nl
SUMMARY:Vriendenkringen ontmoetingsbijeenkomst volwassenen - 25 mei 2025
DESCRIPTION:Op zondag 25 mei vindt er weer een Vriendenkringen ontmoetingsbijeenkomst plaats voor volwassenen en ouderen (vanaf 28 jaar) uit Amsterdam West. Deze bijeenkomst zullen we onder andere verschillende kennismakingsspellen doen om elkaar beter te leren kennen. Komt u ook nieuwe mensen ontmoeten? \nDe bijeenkomst duurt van 12:00 tot 13:30 in Amsterdam west maar daarna is er nog een halfuur ruimte om met elkaar na te kletsen met een kop thee of koffie. \nAanmelden kan bij projectleider Emmelotte van der Werff\n06-30966572\nevanderwerff@dock.nl
URL:https://www.vriendenkringenamsterdam.nl/activiteit/vriendenkringen-ontmoetingsbijeenkomst-volwassenen-25-mei-2025/
CATEGORIES:Volwassenen
END:VEVENT
BEGIN:VEVENT
DTSTART;TZID=Europe/Amsterdam:20250629T120000
DTEND;TZID=Europe/Amsterdam:20250629T150000
DTSTAMP:20260420T090756
CREATED:20250509T112052Z
LAST-MODIFIED:20250509T112052Z
UID:2086-1751198400-1751209200@www.vriendenkringenamsterdam.nl
SUMMARY:Vriendenkringen zomerspecial jeugd en volwassenen - 29 juni 2025
DESCRIPTION:Op zondag 29 juni 2025 vindt de speciale zomereditie van vriendenkringen plaats voor jongeren uit heel Amsterdam en\, volwassenen en ouderen uit Amsterdam west. Bij deze bijeenkomst zullen wij verschillende spellen en activiteiten doen om elkaar beter te leren kennen. \nOp zondag 18 mei is er weer een Vriendenkringen ontmoetingsbijeenkomst voor jongeren en jongvolwassenen tussen de 15 en 28 jaar. De Vriendenkringengroep komt samen in het Centrum van Amsterdam. Er zullen diverse (kennismakings-)spellen gedaan worden om elkaar beter te leren kennen. \nVoor meer informatie kan contact opgenomen worden met projectleider Emmelotte van der Werff \nTelefoon: 06-30966572 \nEmail: evanderwerff@dock.nl \n 
URL:https://www.vriendenkringenamsterdam.nl/activiteit/vriendenkringen-zomerspecial-jeugd-en-volwassenen-29-juni-2025/
CATEGORIES:Jongeren,Volwassenen
END:VEVENT
END:VCALENDAR