BEGIN:VCALENDAR
VERSION:2.0
PRODID:-//Vriendenkringen Amsterdam - ECPv6.15.20//NONSGML v1.0//EN
CALSCALE:GREGORIAN
METHOD:PUBLISH
X-ORIGINAL-URL:https://www.vriendenkringenamsterdam.nl
X-WR-CALDESC:Evenementen voor Vriendenkringen Amsterdam
REFRESH-INTERVAL;VALUE=DURATION:PT1H
X-Robots-Tag:noindex
X-PUBLISHED-TTL:PT1H
BEGIN:VTIMEZONE
TZID:Europe/Amsterdam
BEGIN:DAYLIGHT
TZOFFSETFROM:+0100
TZOFFSETTO:+0200
TZNAME:CEST
DTSTART:20200329T010000
END:DAYLIGHT
BEGIN:STANDARD
TZOFFSETFROM:+0200
TZOFFSETTO:+0100
TZNAME:CET
DTSTART:20201025T010000
END:STANDARD
BEGIN:DAYLIGHT
TZOFFSETFROM:+0100
TZOFFSETTO:+0200
TZNAME:CEST
DTSTART:20210328T010000
END:DAYLIGHT
BEGIN:STANDARD
TZOFFSETFROM:+0200
TZOFFSETTO:+0100
TZNAME:CET
DTSTART:20211031T010000
END:STANDARD
BEGIN:DAYLIGHT
TZOFFSETFROM:+0100
TZOFFSETTO:+0200
TZNAME:CEST
DTSTART:20220327T010000
END:DAYLIGHT
BEGIN:STANDARD
TZOFFSETFROM:+0200
TZOFFSETTO:+0100
TZNAME:CET
DTSTART:20221030T010000
END:STANDARD
END:VTIMEZONE
BEGIN:VEVENT
DTSTART;TZID=Europe/Amsterdam:20211219T140000
DTEND;TZID=Europe/Amsterdam:20211219T153000
DTSTAMP:20260420T203858
CREATED:20211208T084545Z
LAST-MODIFIED:20211208T084821Z
UID:1454-1639922400-1639927800@www.vriendenkringenamsterdam.nl
SUMMARY:Ontmoetingsbijeenkomst Vriendenkringen jeugd
DESCRIPTION:Zondag 19 december organiseren wij een kerstbijeenkomst. Tijdens deze bijeenkomst kunnen jullie nieuwe mensen ontmoeten. Wij hopen jullie te zien bij de bijeenkomst. Kom jij ook? \n \n 
URL:https://www.vriendenkringenamsterdam.nl/activiteit/ontmoetingsbijeenkomst-vriendenkringen-jeugd/
LOCATION:Cremer\, J. J. Cremerplein 27a\, Amsterdam\, Noord-Holland\, 1054TH\, Nederland
CATEGORIES:Jongeren
END:VEVENT
BEGIN:VEVENT
DTSTART;VALUE=DATE:20211219
DTEND;VALUE=DATE:20211220
DTSTAMP:20260420T203858
CREATED:20211206T102620Z
LAST-MODIFIED:20211206T102620Z
UID:1456-1639872000-1639958399@www.vriendenkringenamsterdam.nl
SUMMARY:Kerstbijeenkomst Vriendenkringen volwassenen 19 december
DESCRIPTION:Groep 1: 10:00 tot 11:30 uur\nGroep 2: 12:00 tot 13:30 uur \nZondag 19 december organiseren wij een kerstbijeenkomst. Tijdens deze bijeenkomst krijgen jullie de gelegenheid om nieuwe mensen te ontmoeten. Wij hopen jullie te zien bij de bijeenkomst. Kom jij ook? \n \n 
URL:https://www.vriendenkringenamsterdam.nl/activiteit/kerstbijeenkomst-vriendenkringen-volwassenen-19-december/
LOCATION:Cremer\, J. J. Cremerplein 27a\, Amsterdam\, Noord-Holland\, 1054TH\, Nederland
CATEGORIES:Volwassenen
END:VEVENT
END:VCALENDAR